Workbook

Sheet Intro
A1: This spreadsheet simulates the development of Operation Saylor had it started on the works possible time of the 4th epoch: March 2021.
A3: The source for the Bitcoin price history is https://finance.yahoo.com/quote/BTC-EUR/history

Sheet register
A1: id | B1: bisq_id | C1: date | D1: type | E1: status | F1: account | G1: eur amount | H1: btc amount | I1: price | J1: btc_balance | K1: eur_balance | L1: total_stack_value | M1: outstanding_debt_plus_interests | N1: outstanding_debt | O1: interest_until_maturity | P1: exit_value | T1: btc_buyed_if_dcad | U1: accumulated_dca_btc | V1: dca_value
A2: 0 | C2: 44300 | D2: Start the register | I2: =VLOOKUP(C2,historical_prices!$A:$F,6,0) -> 52822.541 | J2: 0 | K2: 0 | L2: =K2+(J2*I2) -> 0 | M2: 43944.33 | P2: 0 | T2: =IF(D2="installment payment",(G2*-1)/I2,0) -> 0 | U2: 0 | V2: =U2*I2 -> 0
A3: 1 | C3: 44300 | D3: loan deposit | E3: received | F3: bankinter | G3: 33000 | I3: =VLOOKUP(C3,historical_prices!$A:$F,6,0) -> 52822.541 | J3: =H3+J2 -> 0 | K3: =G3+K2 -> 33000 | L3: =K3+(J3*I3) -> 33000 | M3: =M2+IF(D3="installment payment",G3,0) -> 43944.33 | N3: 33000 | O3: =M3-N3 -> 10944.33 | P3: =(L3)-N3-(N3*0.01) -> -330 | T3: =IF(D3="installment payment",(G3*-1)/I3,0) -> 0 | U3: =U2+T3 -> 0 | V3: =U3*I3 -> 0
A4: 2 | C4: 44300 | D4: buy BTC | E4: btc received | F4: bankinter | G4: -5000 | H4: =(G4*-1)/I4 -> 0.09465656 | I4: =VLOOKUP(C4,historical_prices!$A:$F,6,0) -> 52822.541 | J4: =H4+J3 -> 0.09465656 | K4: =G4+K3 -> 28000 | L4: =K4+(J4*I4) -> 33000 | M4: =M3+IF(D4="installment payment",G4,0) -> 43944.33 | N4: 33000 | O4: =M4-N4 -> 10944.33 | P4: =(L4)-N4-(N4*0.01) -> -330 | T4: =IF(D4="installment payment",(G4*-1)/I4,0) -> 0 | U4: =U3+T4 -> 0 | V4: =U4*I4 -> 0
A5: 5 | C5: 44330 | D5: buy BTC | E5: btc received | F5: bankinter | G5: -5000 | H5: =(G5*-1)/I5 -> 0.12074235 | I5: =VLOOKUP(C5,historical_prices!$A:$F,6,0) -> 41410.49 | J5: =H5+J4 -> 0.21539891 | K5: =G5+K4 -> 23000 | L5: =K5+(J5*I5) -> 31919.775 | M5: =M4+IF(D5="installment payment",G5,0) -> 43944.33 | N5: 33000 | O5: =M5-N5 -> 10944.33 | P5: =(L5)-N5-(N5*0.01) -> -1410.2255 | T5: =IF(D5="installment payment",(G5*-1)/I5,0) -> 0 | U5: =U4+T5 -> 0 | V5: =U5*I5 -> 0
A6: 8 | C6: 44330 | D6: installment payment | E6: paid | F6: bankinter | G6: -366.2 | I6: =VLOOKUP(C6,historical_prices!$A:$F,6,0) -> 41410.49 | J6: =H6+J5 -> 0.21539891 | K6: =G6+K5 -> 22633.8 | L6: =K6+(J6*I6) -> 31553.575 | M6: =M5+IF(D6="installment payment",G6,0) -> 43578.13 | N6: 32798.52 | O6: =M6-N6 -> 10779.61 | P6: =(L6)-N6-(N6*0.01) -> -1572.9307 | T6: =IF(D6="installment payment",(G6*-1)/I6,0) -> 0.0088431699 | U6: =U5+T6 -> 0.0088431699 | V6: =U6*I6 -> 366.2
A7: 9 | C7: 44361 | D7: buy BTC | E7: btc received | F7: revolut | G7: -5000 | H7: =(G7*-1)/I7 -> 0.15192093 | I7: =VLOOKUP(C7,historical_prices!$A:$F,6,0) -> 32911.858 | J7: =H7+J6 -> 0.36731984 | K7: =G7+K6 -> 17633.8 | L7: =K7+(J7*I7) -> 29722.978 | M7: =M6+IF(D7="installment payment",G7,0) -> 43578.13 | N7: 32798.52 | O7: =M7-N7 -> 10779.61 | P7: =(L7)-N7-(N7*0.01) -> -3403.5267 | T7: =IF(D7="installment payment",(G7*-1)/I7,0) -> 0 | U7: =U6+T7 -> 0.0088431699 | V7: =U7*I7 -> 291.04515
A8: 13 | C8: 44361 | D8: installment payment | E8: paid | F8: bankinter | G8: -366.2 | I8: =VLOOKUP(C8,historical_prices!$A:$F,6,0) -> 32911.858 | J8: =H8+J7 -> 0.36731984 | K8: =G8+K7 -> 17267.6 | L8: =K8+(J8*I8) -> 29356.778 | M8: =M7+IF(D8="installment payment",G8,0) -> 43211.93 | N8: 32596.04 | O8: =M8-N8 -> 10615.89 | P8: =(L8)-N8-(N8*0.01) -> -3565.2219 | T8: =IF(D8="installment payment",(G8*-1)/I8,0) -> 0.011126689 | U8: =U7+T8 -> 0.019969858 | V8: =U8*I8 -> 657.24515
A9: 16 | C9: 44391 | D9: buy BTC | E9: btc received | F9: bankinter | G9: -5000 | H9: 0.075 | I9: =VLOOKUP(C9,historical_prices!$A:$F,6,0) -> 27394.355 | J9: =H9+J8 -> 0.44231984 | K9: =G9+K8 -> 12267.6 | L9: =K9+(J9*I9) -> 24384.667 | M9: =M8+IF(D9="installment payment",G9,0) -> 43211.93 | N9: 32596.04 | O9: =M9-N9 -> 10615.89 | P9: =(L9)-N9-(N9*0.01) -> -8537.3335 | T9: =IF(D9="installment payment",(G9*-1)/I9,0) -> 0 | U9: =U8+T9 -> 0.019969858 | V9: =U9*I9 -> 547.0614
A10: 17 | C10: 44391 | D10: installment payment | E10: paid | F10: bankinter | G10: -366.2 | I10: =VLOOKUP(C10,historical_prices!$A:$F,6,0) -> 27394.355 | J10: =H10+J9 -> 0.44231984 | K10: =G10+K9 -> 11901.4 | L10: =K10+(J10*I10) -> 24018.467 | M10: =M9+IF(D10="installment payment",G10,0) -> 42845.73 | N10: 32392.55 | O10: =M10-N10 -> 10453.18 | P10: =(L10)-N10-(N10*0.01) -> -8698.0086 | T10: =IF(D10="installment payment",(G10*-1)/I10,0) -> 0.013367717 | U10: =U9+T10 -> 0.033337576 | V10: =U10*I10 -> 913.2614
C11: 44422 | D11: buy BTC | E11: btc received | F11: bankinter | G11: -5000 | H11: 0.075 | I11: =VLOOKUP(C11,historical_prices!$A:$F,6,0) -> 39959.771 | J11: =H11+J10 -> 0.51731984 | K11: =G11+K10 -> 6901.4 | L11: =K11+(J11*I11) -> 27573.382 | M11: =M10+IF(D11="installment payment",G11,0) -> 42845.73 | N11: 32392.55 | O11: =M11-N11 -> 10453.18 | P11: =(L11)-N11-(N11*0.01) -> -5143.093 | T11: =IF(D11="installment payment",(G11*-1)/I11,0) -> 0 | U11: =U10+T11 -> 0.033337576 | V11: =U11*I11 -> 1332.1619
C12: 44422 | D12: installment payment | E12: paid | F12: bankinter | G12: -366.2 | I12: =VLOOKUP(C12,historical_prices!$A:$F,6,0) -> 39959.771 | J12: =H12+J11 -> 0.51731984 | K12: =G12+K11 -> 6535.2 | L12: =K12+(J12*I12) -> 27207.182 | M12: =M11+IF(D12="installment payment",G12,0) -> 42479.53 | N12: 32188.04 | O12: =M12-N12 -> 10291.49 | P12: =(L12)-N12-(N12*0.01) -> -5302.7379 | T12: =IF(D12="installment payment",(G12*-1)/I12,0) -> 0.0091642166 | U12: =U11+T12 -> 0.042501792 | V12: =U12*I12 -> 1698.3619
C13: 44453 | D13: buy BTC | E13: btc received | F13: bankinter | G13: -5000 | H13: 0.075 | I13: =VLOOKUP(C13,historical_prices!$A:$F,6,0) -> 38946.992 | J13: =H13+J12 -> 0.59231984 | K13: =G13+K12 -> 1535.2 | L13: =K13+(J13*I13) -> 24604.276 | M13: =M12+IF(D13="installment payment",G13,0) -> 42479.53 | N13: 32188.04 | O13: =M13-N13 -> 10291.49 | P13: =(L13)-N13-(N13*0.01) -> -7905.6443 | T13: =IF(D13="installment payment",(G13*-1)/I13,0) -> 0 | U13: =U12+T13 -> 0.042501792 | V13: =U13*I13 -> 1655.317
C14: 44453 | D14: installment payment | E14: paid | F14: bankinter | G14: -366.2 | I14: =VLOOKUP(C14,historical_prices!$A:$F,6,0) -> 38946.992 | J14: =H14+J13 -> 0.59231984 | K14: =G14+K13 -> 1169 | L14: =K14+(J14*I14) -> 24238.076 | M14: =M13+IF(D14="installment payment",G14,0) -> 42113.33 | N14: 31982.51 | O14: =M14-N14 -> 10130.82 | P14: =(L14)-N14-(N14*0.01) -> -8064.259 | T14: =IF(D14="installment payment",(G14*-1)/I14,0) -> 0.0094025233 | U14: =U13+T14 -> 0.051904316 | V14: =U14*I14 -> 2021.517
C15: 44483 | D15: installment payment | E15: paid | F15: bankinter | G15: -366.2 | I15: =VLOOKUP(C15,historical_prices!$A:$F,6,0) -> 49790.137 | J15: =H15+J14 -> 0.59231984 | K15: =G15+K14 -> 802.8 | L15: =K15+(J15*I15) -> 30294.486 | M15: =M14+IF(D15="installment payment",G15,0) -> 41747.13 | N15: 31775.95 | O15: =M15-N15 -> 9971.18 | P15: =(L15)-N15-(N15*0.01) -> -1799.2238 | T15: =IF(D15="installment payment",(G15*-1)/I15,0) -> 0.0073548703 | U15: =U14+T15 -> 0.059259186 | V15: =U15*I15 -> 2950.523
C16: 44514 | D16: installment payment | E16: paid | F16: bankinter | G16: -366.2 | I16: =VLOOKUP(C16,historical_prices!$A:$F,6,0) -> 56412.756 | J16: =H16+J15 -> 0.59231984 | K16: =G16+K15 -> 436.6 | L16: =K16+(J16*I16) -> 33850.994 | M16: =M15+IF(D16="installment payment",G16,0) -> 41380.93 | N16: 31568.36 | O16: =M16-N16 -> 9812.57 | P16: =(L16)-N16-(N16*0.01) -> 1966.9508 | T16: =IF(D16="installment payment",(G16*-1)/I16,0) -> 0.0064914396 | U16: =U15+T16 -> 0.065750626 | V16: =U16*I16 -> 3709.174
C17: 44544 | D17: installment payment | E17: paid | F17: bankinter | G17: -366.2 | I17: =VLOOKUP(C17,historical_prices!$A:$F,6,0) -> 42078.764 | J17: =H17+J16 -> 0.59231984 | K17: =G17+K16 -> 70.4 | L17: =K17+(J17*I17) -> 24994.486 | M17: =M16+IF(D17="installment payment",G17,0) -> 41014.73 | N17: 31359.74 | O17: =M17-N17 -> 9654.99 | P17: =(L17)-N17-(N17*0.01) -> -6678.8509 | T17: =IF(D17="installment payment",(G17*-1)/I17,0) -> 0.0087027272 | U17: =U16+T17 -> 0.074453353 | V17: =U17*I17 -> 3132.905
C18: 44575 | D18: sell BTC | E18: paid | F18: bankinter | G18: =G17*-2 -> 732.4 | H18: =G18/I18*-1 -> -0.01962894 | I18: =VLOOKUP(C18,historical_prices!$A:$F,6,0) -> 37312.254 | J18: =H18+J17 -> 0.5726909 | K18: =G18+K17 -> 802.8 | L18: =K18+(J18*I18) -> 22171.188 | M18: =M17+IF(D18="installment payment",G18,0) -> 41014.73 | N18: 31359.74 | O18: =M18-N18 -> 9654.99 | P18: =(L18)-N18-(N18*0.01) -> -9502.1492 | T18: =IF(D18="installment payment",(G18*-1)/I18,0) -> 0 | U18: =U17+T18 -> 0.074453353 | V18: =U18*I18 -> 2778.0224
C19: 44575 | D19: installment payment | E19: paid | F19: bankinter | G19: -366.2 | I19: =VLOOKUP(C19,historical_prices!$A:$F,6,0) -> 37312.254 | J19: =H19+J18 -> 0.5726909 | K19: =G19+K18 -> 436.6 | L19: =K19+(J19*I19) -> 21804.988 | M19: =M18+IF(D19="installment payment",G19,0) -> 40648.53 | N19: 31150.08 | O19: =M19-N19 -> 9498.45 | P19: =(L19)-N19-(N19*0.01) -> -9656.5926 | T19: =IF(D19="installment payment",(G19*-1)/I19,0) -> 0.0098144701 | U19: =U18+T19 -> 0.084267823 | V19: =U19*I19 -> 3144.2224
C20: 44606 | D20: installment payment | E20: paid | F20: bankinter | G20: -366.2 | I20: =VLOOKUP(C20,historical_prices!$A:$F,6,0) -> 37268.916 | J20: =H20+J19 -> 0.5726909 | K20: =G20+K19 -> 70.4 | L20: =K20+(J20*I20) -> 21413.969 | M20: =M19+IF(D20="installment payment",G20,0) -> 40282.33 | N20: 30939.37 | O20: =M20-N20 -> 9342.96 | P20: =(L20)-N20-(N20*0.01) -> -9834.7947 | T20: =IF(D20="installment payment",(G20*-1)/I20,0) -> 0.0098258828 | U20: =U19+T20 -> 0.094093706 | V20: =U20*I20 -> 3506.7704
C21: 44634 | D21: sell BTC | E21: paid | F21: bankinter | G21: =G20*-2 -> 732.4 | H21: =G21/I21*-1 -> -0.020684561 | I21: =VLOOKUP(C21,historical_prices!$A:$F,6,0) -> 35408.051 | J21: =H21+J20 -> 0.55200634 | K21: =G21+K20 -> 802.8 | L21: =K21+(J21*I21) -> 20348.268 | M21: =M20+IF(D21="installment payment",G21,0) -> 40282.33 | N21: 30939.37 | O21: =M21-N21 -> 9342.96 | P21: =(L21)-N21-(N21*0.01) -> -10900.495 | T21: =IF(D21="installment payment",(G21*-1)/I21,0) -> 0 | U21: =U20+T21 -> 0.094093706 | V21: =U21*I21 -> 3331.6747
C22: 44634 | D22: installment payment | E22: paid | F22: bankinter | G22: -366.2 | I22: =VLOOKUP(C22,historical_prices!$A:$F,6,0) -> 35408.051 | J22: =H22+J21 -> 0.55200634 | K22: =G22+K21 -> 436.6 | L22: =K22+(J22*I22) -> 19982.068 | M22: =M21+IF(D22="installment payment",G22,0) -> 39916.13 | N22: 30727.6 | O22: =M22-N22 -> 9188.53 | P22: =(L22)-N22-(N22*0.01) -> -11052.808 | T22: =IF(D22="installment payment",(G22*-1)/I22,0) -> 0.010342281 | U22: =U21+T22 -> 0.10443599 | V22: =U22*I22 -> 3697.8747
C23: 44665 | D23: installment payment | E23: paid | F23: bankinter | G23: -366.2 | I23: =VLOOKUP(C23,historical_prices!$A:$F,6,0) -> 37318.332 | J23: =H23+J22 -> 0.55200634 | K23: =G23+K22 -> 70.4 | L23: =K23+(J23*I23) -> 20670.356 | M23: =M22+IF(D23="installment payment",G23,0) -> 39549.93 | N23: 30514.78 | O23: =M23-N23 -> 9035.15 | P23: =(L23)-N23-(N23*0.01) -> -10149.572 | T23: =IF(D23="installment payment",(G23*-1)/I23,0) -> 0.0098128716 | U23: =U22+T23 -> 0.11424886 | V23: =U23*I23 -> 4263.5768
C24: 44695 | D24: sell BTC | E24: paid | F24: bankinter | G24: =G23*-2 -> 732.4 | H24: =G24/I24*-1 -> -0.025895507 | I24: =VLOOKUP(C24,historical_prices!$A:$F,6,0) -> 28282.898 | J24: =H24+J23 -> 0.52611083 | K24: =G24+K23 -> 802.8 | L24: =K24+(J24*I24) -> 15682.739 | M24: =M23+IF(D24="installment payment",G24,0) -> 39549.93 | N24: 30514.78 | O24: =M24-N24 -> 9035.15 | P24: =(L24)-N24-(N24*0.01) -> -15137.189 | T24: =IF(D24="installment payment",(G24*-1)/I24,0) -> 0 | U24: =U23+T24 -> 0.11424886 | V24: =U24*I24 -> 3231.2888
C25: 44695 | D25: installment payment | E25: paid | F25: bankinter | G25: -366.2 | I25: =VLOOKUP(C25,historical_prices!$A:$F,6,0) -> 28282.898 | J25: =H25+J24 -> 0.52611083 | K25: =G25+K24 -> 436.6 | L25: =K25+(J25*I25) -> 15316.539 | M25: =M24+IF(D25="installment payment",G25,0) -> 39183.73 | N25: 30300.9 | O25: =M25-N25 -> 8882.83 | P25: =(L25)-N25-(N25*0.01) -> -15287.37 | T25: =IF(D25="installment payment",(G25*-1)/I25,0) -> 0.012947754 | U25: =U24+T25 -> 0.12719661 | V25: =U25*I25 -> 3597.4888
C26: 44726 | D26: installment payment | E26: paid | F26: bankinter | G26: -366.2 | I26: =VLOOKUP(C26,historical_prices!$A:$F,6,0) -> 21114.439 | J26: =H26+J25 -> 0.52611083 | K26: =G26+K25 -> 70.4 | L26: =K26+(J26*I26) -> 11178.935 | M26: =M25+IF(D26="installment payment",G26,0) -> 38817.53 | N26: 30085.95 | O26: =M26-N26 -> 8731.58 | P26: =(L26)-N26-(N26*0.01) -> -19207.874 | T26: =IF(D26="installment payment",(G26*-1)/I26,0) -> 0.017343581 | U26: =U25+T26 -> 0.14454019 | V26: =U26*I26 -> 3051.8852
C27: 44756 | D27: sell BTC | E27: paid | F27: bankinter | G27: =G26*-2 -> 732.4 | H27: =G27/I27*-1 -> -0.036148812 | I27: =VLOOKUP(C27,historical_prices!$A:$F,6,0) -> 20260.693 | J27: =H27+J26 -> 0.48996202 | K27: =G27+K26 -> 802.8 | L27: =K27+(J27*I27) -> 10729.77 | M27: =M26+IF(D27="installment payment",G27,0) -> 38817.53 | N27: 30085.95 | O27: =M27-N27 -> 8731.58 | P27: =(L27)-N27-(N27*0.01) -> -19657.039 | T27: =IF(D27="installment payment",(G27*-1)/I27,0) -> 0 | U27: =U26+T27 -> 0.14454019 | V27: =U27*I27 -> 2928.4845
C28: 44756 | D28: installment payment | E28: paid | F28: bankinter | G28: -366.2 | I28: =VLOOKUP(C28,historical_prices!$A:$F,6,0) -> 20260.693 | J28: =H28+J27 -> 0.48996202 | K28: =G28+K27 -> 436.6 | L28: =K28+(J28*I28) -> 10363.57 | M28: =M27+IF(D28="installment payment",G28,0) -> 38451.33 | N28: 29869.93 | O28: =M28-N28 -> 8581.4 | P28: =(L28)-N28-(N28*0.01) -> -19805.059 | T28: =IF(D28="installment payment",(G28*-1)/I28,0) -> 0.018074406 | U28: =U27+T28 -> 0.1626146 | V28: =U28*I28 -> 3294.6845
C29: 44787 | D29: installment payment | E29: paid | F29: bankinter | G29: -366.2 | I29: =VLOOKUP(C29,historical_prices!$A:$F,6,0) -> 23961.485 | J29: =H29+J28 -> 0.48996202 | K29: =G29+K28 -> 70.4 | L29: =K29+(J29*I29) -> 11810.618 | M29: =M28+IF(D29="installment payment",G29,0) -> 38085.13 | N29: 29652.83 | O29: =M29-N29 -> 8432.3 | P29: =(L29)-N29-(N29*0.01) -> -18138.741 | T29: =IF(D29="installment payment",(G29*-1)/I29,0) -> 0.015282859 | U29: =U28+T29 -> 0.17789746 | V29: =U29*I29 -> 4262.6873
C30: 44818 | D30: sell BTC | E30: paid | F30: bankinter | G30: =G29*-2 -> 732.4 | H30: =G30/I30*-1 -> -0.036333904 | I30: =VLOOKUP(C30,historical_prices!$A:$F,6,0) -> 20157.481 | J30: =H30+J29 -> 0.45362811 | K30: =G30+K29 -> 802.8 | L30: =K30+(J30*I30) -> 9946.8003 | M30: =M29+IF(D30="installment payment",G30,0) -> 38085.13 | N30: 29652.83 | O30: =M30-N30 -> 8432.3 | P30: =(L30)-N30-(N30*0.01) -> -20002.558 | T30: =IF(D30="installment payment",(G30*-1)/I30,0) -> 0 | U30: =U29+T30 -> 0.17789746 | V30: =U30*I30 -> 3585.9647
C31: 44818 | D31: installment payment | E31: paid | F31: bankinter | G31: -366.2 | I31: =VLOOKUP(C31,historical_prices!$A:$F,6,0) -> 20157.481 | J31: =H31+J30 -> 0.45362811 | K31: =G31+K30 -> 436.6 | L31: =K31+(J31*I31) -> 9580.6003 | M31: =M30+IF(D31="installment payment",G31,0) -> 37718.93 | N31: 29434.64 | O31: =M31-N31 -> 8284.29 | P31: =(L31)-N31-(N31*0.01) -> -20148.386 | T31: =IF(D31="installment payment",(G31*-1)/I31,0) -> 0.018166952 | U31: =U30+T31 -> 0.19606441 | V31: =U31*I31 -> 3952.1647
C32: 44848 | D32: installment payment | E32: paid | F32: bankinter | G32: -366.2 | I32: =VLOOKUP(C32,historical_prices!$A:$F,6,0) -> 19979.045 | J32: =H32+J31 -> 0.45362811 | K32: =G32+K31 -> 70.4 | L32: =K32+(J32*I32) -> 9133.4564 | M32: =M31+IF(D32="installment payment",G32,0) -> 37352.73 | N32: 29215.37 | O32: =M32-N32 -> 8137.36 | P32: =(L32)-N32-(N32*0.01) -> -20374.067 | T32: =IF(D32="installment payment",(G32*-1)/I32,0) -> 0.018329204 | U32: =U31+T32 -> 0.21439361 | V32: =U32*I32 -> 4283.3797
C33: 44879 | D33: sell BTC | E33: paid | F33: bankinter | G33: =G32*-2 -> 732.4 | H33: =G33/I33*-1 -> -0.045785927 | I33: =VLOOKUP(C33,historical_prices!$A:$F,6,0) -> 15996.182 | J33: =H33+J32 -> 0.40784219 | K33: =G33+K32 -> 802.8 | L33: =K33+(J33*I33) -> 7326.7177 | M33: =M32+IF(D33="installment payment",G33,0) -> 37352.73 | N33: 29215.37 | O33: =M33-N33 -> 8137.36 | P33: =(L33)-N33-(N33*0.01) -> -22180.806 | T33: =IF(D33="installment payment",(G33*-1)/I33,0) -> 0 | U33: =U32+T33 -> 0.21439361 | V33: =U33*I33 -> 3429.4792
C34: 44879 | D34: installment payment | E34: paid | F34: bankinter | G34: -366.2 | I34: =VLOOKUP(C34,historical_prices!$A:$F,6,0) -> 15996.182 | J34: =H34+J33 -> 0.40784219 | K34: =G34+K33 -> 436.6 | L34: =K34+(J34*I34) -> 6960.5177 | M34: =M33+IF(D34="installment payment",G34,0) -> 36986.53 | N34: 28995 | O34: =M34-N34 -> 7991.53 | P34: =(L34)-N34-(N34*0.01) -> -22324.432 | T34: =IF(D34="installment payment",(G34*-1)/I34,0) -> 0.022892963 | U34: =U33+T34 -> 0.23728658 | V34: =U34*I34 -> 3795.6792
C35: 44909 | D35: installment payment | E35: paid | F35: bankinter | G35: -366.2 | I35: =VLOOKUP(C35,historical_prices!$A:$F,6,0) -> 16887.811 | J35: =H35+J34 -> 0.40784219 | K35: =G35+K34 -> 70.4 | L35: =K35+(J35*I35) -> 6957.9616 | M35: =M34+IF(D35="installment payment",G35,0) -> 36620.33 | N35: 28773.53 | O35: =M35-N35 -> 7846.8 | P35: =(L35)-N35-(N35*0.01) -> -22103.304 | T35: =IF(D35="installment payment",(G35*-1)/I35,0) -> 0.021684279 | U35: =U34+T35 -> 0.25897086 | V35: =U35*I35 -> 4373.4508
C36: 44940 | D36: sell BTC | E36: paid | F36: bankinter | G36: =G35*-2 -> 732.4 | H36: =G36/I36*-1 -> -0.038761709 | I36: =VLOOKUP(C36,historical_prices!$A:$F,6,0) -> 18894.936 | J36: =H36+J35 -> 0.36908048 | K36: =G36+K35 -> 802.8 | L36: =K36+(J36*I36) -> 7776.5518 | M36: =M35+IF(D36="installment payment",G36,0) -> 36620.33 | N36: 28773.53 | O36: =M36-N36 -> 7846.8 | P36: =(L36)-N36-(N36*0.01) -> -21284.713 | T36: =IF(D36="installment payment",(G36*-1)/I36,0) -> 0 | U36: =U35+T36 -> 0.25897086 | V36: =U36*I36 -> 4893.2377
C37: 44940 | D37: installment payment | E37: paid | F37: bankinter | G37: -366.2 | I37: =VLOOKUP(C37,historical_prices!$A:$F,6,0) -> 18894.936 | J37: =H37+J36 -> 0.36908048 | K37: =G37+K36 -> 436.6 | L37: =K37+(J37*I37) -> 7410.3518 | M37: =M36+IF(D37="installment payment",G37,0) -> 36254.13 | N37: 28550.96 | O37: =M37-N37 -> 7703.17 | P37: =(L37)-N37-(N37*0.01) -> -21426.118 | T37: =IF(D37="installment payment",(G37*-1)/I37,0) -> 0.019380855 | U37: =U36+T37 -> 0.27835171 | V37: =U37*I37 -> 5259.4377
C38: 44971 | D38: installment payment | E38: paid | F38: bankinter | G38: -366.2 | I38: =VLOOKUP(C38,historical_prices!$A:$F,6,0) -> 20448.764 | J38: =H38+J37 -> 0.36908048 | K38: =G38+K37 -> 70.4 | L38: =K38+(J38*I38) -> 7617.6394 | M38: =M37+IF(D38="installment payment",G38,0) -> 35887.93 | N38: 28327.27 | O38: =M38-N38 -> 7560.66 | P38: =(L38)-N38-(N38*0.01) -> -20992.903 | T38: =IF(D38="installment payment",(G38*-1)/I38,0) -> 0.017908173 | U38: =U37+T38 -> 0.29625989 | V38: =U38*I38 -> 6058.1484
C39: 44999 | D39: sell BTC | E39: paid | F39: bankinter | G39: =G38*-2 -> 732.4 | H39: =G39/I39*-1 -> -0.033738142 | I39: =VLOOKUP(C39,historical_prices!$A:$F,6,0) -> 21708.368 | J39: =H39+J38 -> 0.33534233 | K39: =G39+K38 -> 802.8 | L39: =K39+(J39*I39) -> 8082.5349 | M39: =M38+IF(D39="installment payment",G39,0) -> 35887.93 | N39: 28327.27 | O39: =M39-N39 -> 7560.66 | P39: =(L39)-N39-(N39*0.01) -> -20528.008 | T39: =IF(D39="installment payment",(G39*-1)/I39,0) -> 0 | U39: =U38+T39 -> 0.29625989 | V39: =U39*I39 -> 6431.3187
C40: 44999 | D40: installment payment | E40: paid | F40: bankinter | G40: -366.2 | I40: =VLOOKUP(C40,historical_prices!$A:$F,6,0) -> 21708.368 | J40: =H40+J39 -> 0.33534233 | K40: =G40+K39 -> 436.6 | L40: =K40+(J40*I40) -> 7716.3349 | M40: =M39+IF(D40="installment payment",G40,0) -> 35521.73 | N40: 28102.47 | O40: =M40-N40 -> 7419.26 | P40: =(L40)-N40-(N40*0.01) -> -20667.16 | T40: =IF(D40="installment payment",(G40*-1)/I40,0) -> 0.016869071 | U40: =U39+T40 -> 0.31312896 | V40: =U40*I40 -> 6797.5187
...

Sheet charts
A1: date | B1: Total Stack Value | C1: Outstanding debt + interests | D1: Total BTC Stack | E1: BTC Price | F1: Exit value | G1: step_integration | H1: integrated_exit_value | I1: DCA Stack | J1: DCA Value | K1: step_integration | L1: integrated_dca_value
A2: 44300 | B2: 33000 | C2: 43944.33 | D2: 0.09465656 | E2: =VLOOKUP(A2,historical_prices!$A:$F,6,0) -> 52822.541 | F2: -330 | I2: 0 | J2: 0
A3: 44330 | B3: 31553.575 | C3: 43608.13 | D3: 0.21539891 | E3: =VLOOKUP(A3,historical_prices!$A:$F,6,0) -> 41410.49 | F3: -1572.9307 | G3: =(F3+F2)/2 -> -951.46533 | H3: =G3+H2 -> -951.46533 | I3: 0.0088431699 | J3: =I3*E3 -> 366.2 | K3: =(J3+J2)/2 -> 183.1 | L3: =K3+L2 -> 183.1
A4: 44361 | B4: 29356.778 | C4: 43271.93 | D4: 0.36731984 | E4: =VLOOKUP(A4,historical_prices!$A:$F,6,0) -> 32911.858 | F4: -3565.2219 | G4: =(F4+F3)/2 -> -2569.0763 | H4: =G4+H3 -> -3520.5416 | I4: 0.019969858 | J4: =I4*E4 -> 657.24515 | K4: =(J4+J3)/2 -> 511.72258 | L4: =K4+L3 -> 694.82258
A5: 44391 | B5: 24018.467 | C5: 42935.73 | D5: 0.44231984 | E5: =VLOOKUP(A5,historical_prices!$A:$F,6,0) -> 27394.355 | F5: -8698.0086 | G5: =(F5+F4)/2 -> -6131.6153 | H5: =G5+H4 -> -9652.1569 | I5: 0.033337576 | J5: =I5*E5 -> 913.2614 | K5: =(J5+J4)/2 -> 785.25328 | L5: =K5+L4 -> 1480.0759
A6: 44422 | B6: 27207.182 | C6: 42479 | D6: 0.51731984 | E6: =VLOOKUP(A6,historical_prices!$A:$F,6,0) -> 39959.771 | F6: -5302.7379 | G6: =(F6+F5)/2 -> -7000.3733 | H6: =G6+H5 -> -16652.53 | I6: 0.042501792 | J6: =I6*E6 -> 1698.3619 | K6: =(J6+J5)/2 -> 1305.8117 | L6: =K6+L5 -> 2785.8875
A7: 44453 | B7: 24238.076 | C7: 42113.33 | D7: 0.59231984 | E7: =VLOOKUP(A7,historical_prices!$A:$F,6,0) -> 38946.992 | F7: -8064.259 | G7: =(F7+F6)/2 -> -6683.4985 | H7: =G7+H6 -> -23336.029 | I7: 0.051904316 | J7: =I7*E7 -> 2021.517 | K7: =(J7+J6)/2 -> 1859.9394 | L7: =K7+L6 -> 4645.827
A8: 44483 | B8: 30294.486 | C8: 41747.13 | D8: 0.59231984 | E8: =VLOOKUP(A8,historical_prices!$A:$F,6,0) -> 49790.137 | F8: -1799.2238 | G8: =(F8+F7)/2 -> -4931.7414 | H8: =G8+H7 -> -28267.77 | I8: 0.059259186 | J8: =I8*E8 -> 2950.523 | K8: =(J8+J7)/2 -> 2486.02 | L8: =K8+L7 -> 7131.8469
A9: 44514 | B9: 33850.994 | C9: 41380.93 | D9: 0.59231984 | E9: =VLOOKUP(A9,historical_prices!$A:$F,6,0) -> 56412.756 | F9: 1966.9508 | G9: =(F9+F8)/2 -> 83.863498 | H9: =G9+H8 -> -28183.907 | I9: 0.065750626 | J9: =I9*E9 -> 3709.174 | K9: =(J9+J8)/2 -> 3329.8485 | L9: =K9+L8 -> 10461.695
A10: 44544 | B10: 24994.486 | C10: 41014.73 | D10: 0.59231984 | E10: =VLOOKUP(A10,historical_prices!$A:$F,6,0) -> 42078.764 | F10: -6678.8509 | G10: =(F10+F9)/2 -> -2355.9501 | H10: =G10+H9 -> -30539.857 | I10: 0.074453353 | J10: =I10*E10 -> 3132.905 | K10: =(J10+J9)/2 -> 3421.0395 | L10: =K10+L9 -> 13882.735
A11: 44575 | B11: 21804.988 | C11: 40648.53 | D11: 0.5726909 | E11: =VLOOKUP(A11,historical_prices!$A:$F,6,0) -> 37312.254 | F11: -9656.5926 | G11: =(F11+F10)/2 -> -8167.7218 | H11: =G11+H10 -> -38707.578 | I11: 0.084267823 | J11: =I11*E11 -> 3144.2224 | K11: =(J11+J10)/2 -> 3138.5637 | L11: =K11+L10 -> 17021.299
A12: 44606 | B12: 21413.969 | C12: 40282.33 | D12: 0.5726909 | E12: =VLOOKUP(A12,historical_prices!$A:$F,6,0) -> 37268.916 | F12: -9834.7947 | G12: =(F12+F11)/2 -> -9745.6937 | H12: =G12+H11 -> -48453.272 | I12: 0.094093706 | J12: =I12*E12 -> 3506.7704 | K12: =(J12+J11)/2 -> 3325.4964 | L12: =K12+L11 -> 20346.795
A13: 44634 | B13: 19982.068 | C13: 39916.13 | D13: 0.55200634 | E13: =VLOOKUP(A13,historical_prices!$A:$F,6,0) -> 35408.051 | F13: -11052.808 | G13: =(F13+F12)/2 -> -10443.801 | H13: =G13+H12 -> -58897.073 | I13: 0.10443599 | J13: =I13*E13 -> 3697.8747 | K13: =(J13+J12)/2 -> 3602.3226 | L13: =K13+L12 -> 23949.118
A14: 44665 | B14: 20670.356 | C14: 39549.93 | D14: 0.55200634 | E14: =VLOOKUP(A14,historical_prices!$A:$F,6,0) -> 37318.332 | F14: -10149.572 | G14: =(F14+F13)/2 -> -10601.19 | H14: =G14+H13 -> -69498.263 | I14: 0.11424886 | J14: =I14*E14 -> 4263.5768 | K14: =(J14+J13)/2 -> 3980.7258 | L14: =K14+L13 -> 27929.843
... A30: 45152 | B30: 7553.272 | C30: 33690.73 | D30: 0.27913418 | E30: =VLOOKUP(A30,historical_prices!$A:$F,6,0) -> 26807.438 | F30: -19677.863 | G30: =(F30+F29)/2 -> -19479.239 | H30: =G30+H29 -> -383297.03 | I30: 0.38342548 | J30: =I30*E30 -> 10278.655 | K30: =(J30+J29)/2 -> 10270.296 | L30: =K30+L29 -> 120130.44
A31: 45183 | B31: 6474.4817 | C31: 33324.53 | D31: 0.24893781 | E31: =VLOOKUP(A31,historical_prices!$A:$F,6,0) -> 24254.578 | F31: -20522.717 | G31: =(F31+F30)/2 -> -20100.29 | H31: =G31+H30 -> -403397.32 | I31: 0.39852366 | J31: =I31*E31 -> 9666.0232 | K31: =(J31+J30)/2 -> 9972.3389 | L31: =K31+L30 -> 130102.78 | P31: s
A32: 45213 | B32: 6440.2937 | C32: 32958.33 | D32: 0.24893781 | E32: =VLOOKUP(A32,historical_prices!$A:$F,6,0) -> 25588.293 | F32: -20321.797 | G32: =(F32+F31)/2 -> -20422.257 | H32: =G32+H31 -> -423819.58 | I32: 0.41283489 | J32: =I32*E32 -> 10563.74 | K32: =(J32+J31)/2 -> 10114.882 | L32: =K32+L31 -> 140217.66
A33: 45244 | B33: 8296.1146 | C33: 32592.13 | D33: 0.22771762 | E33: =VLOOKUP(A33,historical_prices!$A:$F,6,0) -> 34514.301 | F33: -18229.707 | G33: =(F33+F32)/2 -> -19275.752 | H33: =G33+H32 -> -443095.33 | I33: 0.42344499 | J33: =I33*E33 -> 14614.908 | K33: =(J33+J32)/2 -> 12589.324 | L33: =K33+L32 -> 152806.98
A34: 45274 | B34: 7634.9513 | C34: 32225.93 | D34: 0.22771762 | E34: =VLOOKUP(A34,historical_prices!$A:$F,6,0) -> 38822.1 | F34: -17377.484 | G34: =(F34+F33)/2 -> -17803.596 | H34: =G34+H33 -> -460898.93 | I34: 0.4344688 | J34: =I34*E34 -> 16866.991 | K34: =(J34+J33)/2 -> 15740.949 | L34: =K34+L33 -> 168547.93
A35: 45305 | B35: 8603.8402 | C35: 31859.73 | D35: 0.2089775 | E35: =VLOOKUP(A35,historical_prices!$A:$F,6,0) -> 39081.912 | F35: -17445.878 | G35: =(F35+F34)/2 -> -17411.681 | H35: =G35+H34 -> -478310.61 | I35: 0.44224782 | J35: =I35*E35 -> 17283.891 | K35: =(J35+J34)/2 -> 17075.441 | L35: =K35+L34 -> 185623.37
A36: 45336 | B36: 9676.2625 | C36: 31493.53 | D36: 0.2089775 | E36: =VLOOKUP(A36,historical_prices!$A:$F,6,0) -> 45966.014 | F36: -16133.621 | G36: =(F36+F35)/2 -> -16789.749 | H36: =G36+H35 -> -495100.36 | I36: 0.45021458 | J36: =I36*E36 -> 20694.569 | K36: =(J36+J35)/2 -> 18989.23 | L36: =K36+L35 -> 204612.6
A37: 45365 | B37: 13564.305 | C37: 31127.33 | D37: 0.19793464 | E37: =VLOOKUP(A37,historical_prices!$A:$F,6,0) -> 66323.434 | F37: -12004.552 | G37: =(F37+F36)/2 -> -14069.086 | H37: =G37+H36 -> -509169.44 | I37: 0.455736 | J37: =I37*E37 -> 30225.977 | K37: =(J37+J36)/2 -> 25460.273 | L37: =K37+L36 -> 230072.87
A38: 45396 | B38: 12034.957 | C38: 30761.13 | D38: 0.19793464 | E38: =VLOOKUP(A38,historical_prices!$A:$F,6,0) -> 60447.008 | F38: -13291.672 | G38: =(F38+F37)/2 -> -12648.112 | H38: =G38+H37 -> -521817.55 | I38: 0.4617942 | J38: =I38*E38 -> 27914.078 | K38: =(J38+J37)/2 -> 29070.027 | L38: =K38+L37 -> 259142.9
A39: 45426 | B39: 11101.402 | C39: 30394.93 | D39: 0.18521509 | E39: =VLOOKUP(A39,historical_prices!$A:$F,6,0) -> 57580.635 | F39: -13981.776 | G39: =(F39+F38)/2 -> -13636.724 | H39: =G39+H38 -> -535454.28 | I39: 0.46815398 | J39: =I39*E39 -> 26956.603 | K39: =(J39+J38)/2 -> 27435.341 | L39: =K39+L38 -> 286578.24
A40: 45457 | B40: 11636.317 | C40: 30028.73 | D40: 0.18521509 | E40: =VLOOKUP(A40,historical_prices!$A:$F,6,0) -> 62445.865 | F40: -13202.209 | G40: =(F40+F39)/2 -> -13591.993 | H40: =G40+H39 -> -549046.27 | I40: 0.47401826 | J40: =I40*E40 -> 29600.48 | K40: =(J40+J39)/2 -> 28278.542 | L40: =K40+L39 -> 314856.78

Sheet historical_prices
A1: Date | B1: Open | C1: High | D1: Low | E1: Close | F1: Mean
A2: 44197 | B2: 23735.424 | C2: 24316.916 | D2: 23649.961 | E2: 24165.557 | F2: =(C2+D2)/2 -> 23983.438
A3: 44198 | B3: 24167.451 | C3: 27321.906 | D3: 23972.967 | E3: 26474.893 | F3: =(C3+D3)/2 -> 25647.437 | I3: You can udpate this list with prices from here
A4: 44199 | B4: 26476.656 | C4: 28519.631 | D4: 26413.129 | E4: 26760.721 | F4: =(C4+D4)/2 -> 27466.38 | I4: https://finance.yahoo.com/quote/BTC-EUR/history
A5: 44200 | B5: 26784.332 | C5: 27294.24 | D5: 23363.98 | E5: 26094.006 | F5: =(C5+D5)/2 -> 25329.11
A6: 44201 | B6: 26098.189 | C6: 28009.367 | D6: 24633.168 | E6: 27639.482 | F6: =(C6+D6)/2 -> 26321.268
A7: 44202 | B7: 27656.709 | C7: 29889.705 | D7: 27254.719 | E7: 29844.859 | F7: =(C7+D7)/2 -> 28572.212
A8: 44203 | B8: 29852.566 | C8: 32748.246 | D8: 29653.543 | E8: 32089.447 | F8: =(C8+D8)/2 -> 31200.895
A9: 44204 | B9: 32098.188 | C9: 34261.719 | D9: 30048.318 | E9: 33372.281 | F9: =(C9+D9)/2 -> 32155.019
A10: 44205 | B10: 33364.945 | C10: 33894.77 | D10: 31886.201 | E10: 32928.059 | F10: =(C10+D10)/2 -> 32890.485
A11: 44206 | B11: 32927.789 | C11: 33881.551 | D11: 29440.859 | E11: 31472.686 | F11: =(C11+D11)/2 -> 31661.205
A12: 44207 | B12: 31464.555 | C12: 31464.555 | D12: 25108.531 | E12: 29247.209 | F12: =(C12+D12)/2 -> 28286.543
A13: 44208 | B13: 29205.85 | C13: 30067.74 | D13: 26899.252 | E13: 27786.229 | F13: =(C13+D13)/2 -> 28483.496
A14: 44209 | B14: 27779.807 | C14: 30918.484 | D14: 26690.492 | E14: 30682.93 | F14: =(C14+D14)/2 -> 28804.488
A15: 44210 | B15: 30690.121 | C15: 32956.898 | D15: 30354.293 | E15: 32250.857 | F15: =(C15+D15)/2 -> 31655.596
A16: 44211 | B16: 32225.658 | C16: 32558.051 | D16: 28660.188 | E16: 30485.842 | F16: =(C16+D16)/2 -> 30609.119
... A1263: 45458 | B1263: 61558.48 | C1263: 61890.496 | D1263: 61543.383 | E1263: 61679.438 | F1263: =(C1263+D1263)/2 -> 61716.939
